BEGIN:VCALENDAR
VERSION:2.0
PRODID:-//Library Market//iCal Export//EN
BEGIN:VEVENT
SUMMARY:Memory Café
UID:51397
DTSTAMP:20260422T034100Z
DTSTART:20260708T150000Z
DTEND:20260708T160000Z
LOCATION:Central Library, 740 Conestoga Parkway, Shepherdsville, KY 40165,
  United States
ROOM: Meeting Room 2
DESCRIPTION:For ages 18 and up. Just drop in!Seating and activities will b
 e available on a first-come, first-served basis. Questions? Call Haleigh 
 543-7675 ext. 2558 or e-mail haleigh@bcplib.org.
URL:https://bullittcounty.librarycalendar.com/event/memory-cafe-51397
END:VEVENT
END:VCALENDAR
