BEGIN:VCALENDAR
VERSION:2.0
PRODID:-//Library Market//iCal Export//EN
BEGIN:VEVENT
SUMMARY:Dungeons &amp; Dragons Camp
UID:51919
DTSTAMP:20260425T033600Z
DTSTART:20260610T170000Z
DTEND:20260610T190000Z
LOCATION:Lebanon Junction Branch, 11382 S. Preston Highway, Lebanon Juncti
 on, KY 40150, United States
ROOM: Meeting Room
DESCRIPTION:Adventure starts here... đźŽ˛âś¨Step into a world of imaginati
 on where every choice shapes the story. Whether youâ€™ve been curious abou
 t D&amp;D or ready to finally roll your first character, this camp is your
  gateway into the multiverse.Across four drop-in sessions, youâ€™ll learn 
 the basics of gameplay, build your own character from the ground up, explo
 re rich lore, and jump into guided adventures led by experienced Dungeon M
 asters. Each week builds your skills and confidenceâ€”so youâ€™re not just
  playing, youâ€™re learning how to keep the adventure going long after the
  campaign ends.Psst... Each camper will receive a full set of dice to kick
 start their journey!For ages 13â€“19.Â Just drop in!Space and light refres
 hments will be available on a first-come, first-served basis. Questions? C
 all Nikki at 543-7675 ext. 2557 or e-mailÂ nikki@bcplib.org.DUNGEONS &amp;
  DRAGONS CAMP SCHEDULE2nd &amp; 4th Wednesdays in June &amp; July, 1:00â€“
 3:00 PMÂ @Lebanon JunctionMonday, June 19thâ€“Wednesday, June 11th, 3:00â€
 “6:00 PMÂ @Central**Featuring Nerd Louisville! Registration is required.Â 
URL:https://bullittcounty.librarycalendar.com/event/dd-camp-51919
END:VEVENT
END:VCALENDAR
